BEGIN:VCALENDAR
VERSION:2.0
PRODID:researchseminars.org
CALSCALE:GREGORIAN
X-WR-CALNAME:researchseminars.org
BEGIN:VEVENT
SUMMARY:David Vogan (MIT)
DTSTART:20220630T143000Z
DTEND:20220630T160000Z
DTSTAMP:20260422T150327Z
UID:atlas/26
DESCRIPTION:Title: <a href="https://researchseminars.org/talk/atlas/26/">C
 lassifying the unitary dual (part 1 of infinitely many...)</a>\nby David V
 ogan (MIT) as part of Real reductive groups/atlas\n\n\nAbstract\nWe've exp
 lained a lot about how atlas can offer information about individual repres
 entations\, and certainly how it can check whether an individual represent
 ation is unitary. Want to start talking about how to describe the full uni
 tary dual: to give a finite and complete description of the answers to inf
 initely many questions "is it unitary?" The Dirac inequality from last wee
 k is useful hint\; I will try to say how it can be part of a general pictu
 re of the unitary dual\, and how it might usefully be modified.\n
LOCATION:https://researchseminars.org/talk/atlas/26/
END:VEVENT
END:VCALENDAR
