BEGIN:VCALENDAR
VERSION:2.0
PRODID:researchseminars.org
CALSCALE:GREGORIAN
X-WR-CALNAME:researchseminars.org
BEGIN:VEVENT
SUMMARY:Yuri Zarhin (Penn State University)
DTSTART:20200929T140000Z
DTEND:20200929T150000Z
DTSTAMP:20260423T021446Z
UID:ZAG/53
DESCRIPTION:Title: <a href="https://researchseminars.org/talk/ZAG/53/">Jor
 dan properties of automorphism groups of algebraic varieties and complex m
 anifolds</a>\nby Yuri Zarhin (Penn State University) as part of ZAG (Zoom 
 Algebraic Geometry) seminar\n\n\nAbstract\nA classical theorem of Jordan a
 sserts that each finite subgroup of the complex general linear group GL(n)
   is "almost commutative": it contains a commutative normal subgroup with 
 index bounded by an universal constant that depends only on n. We discuss 
 an analogue of this property for the groups of birational (and biregular) 
  automorphisms of complex algebraic varieties and the groups of bimeromorp
 hic automorphisms of compact complex manifolds.\n
LOCATION:https://researchseminars.org/talk/ZAG/53/
END:VEVENT
END:VCALENDAR
