BEGIN:VCALENDAR
VERSION:2.0
PRODID:researchseminars.org
CALSCALE:GREGORIAN
X-WR-CALNAME:researchseminars.org
BEGIN:VEVENT
SUMMARY:Anthony Varilly-Alvarado (Rice University)
DTSTART:20200527T150000Z
DTEND:20200527T160000Z
DTSTAMP:20260423T021338Z
UID:ZAG/50
DESCRIPTION:Title: <a href="https://researchseminars.org/talk/ZAG/50/">Rat
 ional curves on K3 surfaces</a>\nby Anthony Varilly-Alvarado (Rice Univers
 ity) as part of ZAG (Zoom Algebraic Geometry) seminar\n\nAbstract: TBA\n
LOCATION:https://researchseminars.org/talk/ZAG/50/
END:VEVENT
END:VCALENDAR
