BEGIN:VCALENDAR
VERSION:2.0
PRODID:researchseminars.org
CALSCALE:GREGORIAN
X-WR-CALNAME:researchseminars.org
BEGIN:VEVENT
SUMMARY:Benoit Claudon (Université de Rennes 1)
DTSTART:20220517T100000Z
DTEND:20220517T110000Z
DTSTAMP:20260423T040003Z
UID:ZAG/211
DESCRIPTION:Title: <a href="https://researchseminars.org/talk/ZAG/211/">Nu
 merical characterization of complex tori</a>\nby Benoit Claudon (Universit
 é de Rennes 1) as part of ZAG (Zoom Algebraic Geometry) seminar\n\n\nAbst
 ract\nIn this talk I will explain how to recognize complex tori among Kahl
 er klt spaces (smooth in codimension 2) in terms of vanishing of Chern num
 bers. It requires first to define Chern classes on singular spaces (a rath
 er unstable notion). On the way\, we will establish a singular version of 
 the Bogomolov--Gieseker inequality for stable sheaves and study what can b
 e said in the equality case. Joint work with Patrick Graf and Henri Guenan
 cia.\n
LOCATION:https://researchseminars.org/talk/ZAG/211/
END:VEVENT
END:VCALENDAR
