BEGIN:VCALENDAR
VERSION:2.0
PRODID:researchseminars.org
CALSCALE:GREGORIAN
X-WR-CALNAME:researchseminars.org
BEGIN:VEVENT
SUMMARY:Yuri Prokhorov (Moscow State University)
DTSTART:20200609T153000Z
DTEND:20200609T163000Z
DTSTAMP:20260423T035614Z
UID:ZAG/21
DESCRIPTION:Title: <a href="https://researchseminars.org/talk/ZAG/21/">Gen
 eral elephants for 3-fold extremal contractions</a>\nby Yuri Prokhorov (Mo
 scow State University) as part of ZAG (Zoom Algebraic Geometry) seminar\n\
 n\nAbstract\nI will discuss effective results on the classification of ext
 remal contractions in the 3-dimensional MMP. In particular\, I will presen
 t some recent result based on joint work with Shigefumi Mori on the existe
 nce of general elephants.\n
LOCATION:https://researchseminars.org/talk/ZAG/21/
END:VEVENT
END:VCALENDAR
