BEGIN:VCALENDAR
VERSION:2.0
PRODID:researchseminars.org
CALSCALE:GREGORIAN
X-WR-CALNAME:researchseminars.org
BEGIN:VEVENT
SUMMARY:Caucher Birkar (University of Cambridge)
DTSTART:20200604T130000Z
DTEND:20200604T140000Z
DTSTAMP:20260423T052926Z
UID:ZAG/20
DESCRIPTION:Title: <a href="https://researchseminars.org/talk/ZAG/20/">Geo
 metry of polarised varieties</a>\nby Caucher Birkar (University of Cambrid
 ge) as part of ZAG (Zoom Algebraic Geometry) seminar\n\n\nAbstract\nI will
  talk about projective varieties polarised by ample divisors (or more gene
 rally nef and big divisors) in particular from a birational geometry point
  of view\, and present some recent results in this direction.\n
LOCATION:https://researchseminars.org/talk/ZAG/20/
END:VEVENT
END:VCALENDAR
