BEGIN:VCALENDAR
VERSION:2.0
PRODID:researchseminars.org
CALSCALE:GREGORIAN
X-WR-CALNAME:researchseminars.org
BEGIN:VEVENT
SUMMARY:Christopher Hacon (The University of Utah)
DTSTART:20200428T160000Z
DTEND:20200428T170000Z
DTSTAMP:20260423T021145Z
UID:ZAG/2
DESCRIPTION:Title: <a href="https://researchseminars.org/talk/ZAG/2/">Rece
 nt progress in the MMP for 3-folds and 4-folds in char p>0</a>\nby Christo
 pher Hacon (The University of Utah) as part of ZAG (Zoom Algebraic Geometr
 y) seminar\n\nAbstract: TBA\n
LOCATION:https://researchseminars.org/talk/ZAG/2/
END:VEVENT
END:VCALENDAR
