BEGIN:VCALENDAR
VERSION:2.0
PRODID:researchseminars.org
CALSCALE:GREGORIAN
X-WR-CALNAME:researchseminars.org
BEGIN:VEVENT
SUMMARY:Giulio Codogni (Università di Roma Tor Vergata)
DTSTART:20220405T110000Z
DTEND:20220405T120000Z
DTSTAMP:20260423T021359Z
UID:ZAG/199
DESCRIPTION:Title: <a href="https://researchseminars.org/talk/ZAG/199/">Am
 ple cone of KSB and K- moduli spaces</a>\nby Giulio Codogni (Università d
 i Roma Tor Vergata) as part of ZAG (Zoom Algebraic Geometry) seminar\n\n\n
 Abstract\nI will present some quantitative results about the ample cone of
  the moduli spaces of KSB stable and K-stable varieties of any dimension. 
 These results follow from various higher dimensional generalizations of th
 e Xiao-Cornalba-Harris slope inequality. Our proofs combine some new Noeth
 er and Castelnuovo inequalities with a careful study of the Harder-Narasim
 han filtration of the push-forward of the log pluri-canonical bundles. The
  talk is based on a joint work with Luca Tasin and Filippo Viviani.\n
LOCATION:https://researchseminars.org/talk/ZAG/199/
END:VEVENT
END:VCALENDAR
