BEGIN:VCALENDAR
VERSION:2.0
PRODID:researchseminars.org
CALSCALE:GREGORIAN
X-WR-CALNAME:researchseminars.org
BEGIN:VEVENT
SUMMARY:Sean Keel (The University of Texas at Austin)
DTSTART:20220208T170000Z
DTEND:20220208T180000Z
DTSTAMP:20260423T035821Z
UID:ZAG/183
DESCRIPTION:Title: <a href="https://researchseminars.org/talk/ZAG/183/">Mi
 rror symmetry and analytic disks</a>\nby Sean Keel (The University of Texa
 s at Austin) as part of ZAG (Zoom Algebraic Geometry) seminar\n\n\nAbstrac
 t\nI will explain my recent construction\, joint with Tony Yu\, of the mir
 ror to an affine log CY manifold as the spectrum of an algebra with a cano
 nical basis and structure constants naive counts of Berkovich analytic dis
 ks. I wont assume any previous knowledge of Berkovich geometry.\n
LOCATION:https://researchseminars.org/talk/ZAG/183/
END:VEVENT
END:VCALENDAR
