BEGIN:VCALENDAR
VERSION:2.0
PRODID:researchseminars.org
CALSCALE:GREGORIAN
X-WR-CALNAME:researchseminars.org
BEGIN:VEVENT
SUMMARY:Brian Lehmann (Boston College)
DTSTART:20211202T130000Z
DTEND:20211202T140000Z
DTSTAMP:20260423T021447Z
UID:ZAG/169
DESCRIPTION:Title: <a href="https://researchseminars.org/talk/ZAG/169/">Ra
 tional curves on del Pezzo surfaces in characteristic p</a>\nby Brian Lehm
 ann (Boston College) as part of ZAG (Zoom Algebraic Geometry) seminar\n\n\
 nAbstract\nTesta classified the components of the moduli space of rational
  curves on a del Pezzo surface over an algebraically closed field of chara
 cteristic 0. In characteristic p\, new pathologies can appear. I will expl
 ain how such pathologies are predicted by Geometric Manin's Conjecture and
  how this perspective leads to a description of "problematic" surfaces. Wh
 en no pathologies occur\, we can completely classify the components of the
  moduli space of rational curves. This is joint work with Roya Beheshti\, 
 Eric Riedl\, and Sho Tanimoto.\n
LOCATION:https://researchseminars.org/talk/ZAG/169/
END:VEVENT
END:VCALENDAR
