BEGIN:VCALENDAR
VERSION:2.0
PRODID:researchseminars.org
CALSCALE:GREGORIAN
X-WR-CALNAME:researchseminars.org
BEGIN:VEVENT
SUMMARY:Giulia Sacca (Columbia University)
DTSTART:20210928T150000Z
DTEND:20210928T160000Z
DTSTAMP:20260423T021443Z
UID:ZAG/150
DESCRIPTION:Title: <a href="https://researchseminars.org/talk/ZAG/150/">Co
 mpactification of Lagrangian fibrations</a>\nby Giulia Sacca (Columbia Uni
 versity) as part of ZAG (Zoom Algebraic Geometry) seminar\n\n\nAbstract\nL
 agrangian fibered Hyper-Kahler manifolds are the natural generalization of
  elliptic K3 surfaces and have been used to study and construct examples o
 f compact Hyper-Kahler manifolds and (possibly singular) symplectic variet
 ies. In this talk I will talk about some recent compactification technique
 s I introduced for quasi-projective Lagrangian fibrations\, with applicati
 ons to the study of Prym\, Intermediate Jacobian\, and Albanese fibrations
 .\n
LOCATION:https://researchseminars.org/talk/ZAG/150/
END:VEVENT
END:VCALENDAR
