BEGIN:VCALENDAR
VERSION:2.0
PRODID:researchseminars.org
CALSCALE:GREGORIAN
X-WR-CALNAME:researchseminars.org
BEGIN:VEVENT
SUMMARY:Sheng Meng (Korea Institute for Advanced Study)
DTSTART:20210701T110000Z
DTEND:20210701T120000Z
DTSTAMP:20260423T021422Z
UID:ZAG/134
DESCRIPTION:Title: <a href="https://researchseminars.org/talk/ZAG/134/">Au
 tomorphism group and its Jordan property</a>\nby Sheng Meng (Korea Institu
 te for Advanced Study) as part of ZAG (Zoom Algebraic Geometry) seminar\n\
 n\nAbstract\nA group is said to have Jordan property if there exists a Jor
 dan constant J such that any finite subgroup has an abelian subgroup with 
 index bounded by J. I will survey known results for Jordan property on cer
 tain automorphism groups and birational automorphism groups of varieties. 
 I will also explain our recent progress on automorphism groups of compact 
 spaces in Fujiki’s class C. This is a joint work with Fabio Perroni and 
 De-Qi Zhang.\n
LOCATION:https://researchseminars.org/talk/ZAG/134/
END:VEVENT
END:VCALENDAR
