BEGIN:VCALENDAR
VERSION:2.0
PRODID:researchseminars.org
CALSCALE:GREGORIAN
X-WR-CALNAME:researchseminars.org
BEGIN:VEVENT
SUMMARY:Yen-Jen Cheng (National Taiwan Normal University)
DTSTART:20210628T024000Z
DTEND:20210628T033000Z
DTSTAMP:20260423T005843Z
UID:YehConf/8
DESCRIPTION:Title: <a href="https://researchseminars.org/talk/YehConf/8/">
 Partial permutations via Catalan matrices</a>\nby Yen-Jen Cheng (National 
 Taiwan Normal University) as part of Conference on the Occasion of the Ret
 irement of Yeong-Nan Yeh\n\nAbstract: TBA\n
LOCATION:https://researchseminars.org/talk/YehConf/8/
END:VEVENT
END:VCALENDAR
