BEGIN:VCALENDAR
VERSION:2.0
PRODID:researchseminars.org
CALSCALE:GREGORIAN
X-WR-CALNAME:researchseminars.org
BEGIN:VEVENT
SUMMARY:Bo-Yin Yang (Academia Sinica)
DTSTART:20210628T082000Z
DTEND:20210628T091000Z
DTSTAMP:20260423T005827Z
UID:YehConf/12
DESCRIPTION:Title: <a href="https://researchseminars.org/talk/YehConf/12/"
 >On Postquantum Cryptography</a>\nby Bo-Yin Yang (Academia Sinica) as part
  of Conference on the Occasion of the Retirement of Yeong-Nan Yeh\n\nAbstr
 act: TBA\n
LOCATION:https://researchseminars.org/talk/YehConf/12/
END:VEVENT
END:VCALENDAR
