BEGIN:VCALENDAR
VERSION:2.0
PRODID:researchseminars.org
CALSCALE:GREGORIAN
X-WR-CALNAME:researchseminars.org
BEGIN:VEVENT
SUMMARY:Hsien-Kuei Hwang (Academia Sinica)
DTSTART:20210628T070000Z
DTEND:20210628T075000Z
DTSTAMP:20260423T024019Z
UID:YehConf/11
DESCRIPTION:Title: <a href="https://researchseminars.org/talk/YehConf/11/"
 >Asymptotics of and statistics on generalized Fishburn matrices</a>\nby Hs
 ien-Kuei Hwang (Academia Sinica) as part of Conference on the Occasion of 
 the Retirement of Yeong-Nan Yeh\n\nAbstract: TBA\n
LOCATION:https://researchseminars.org/talk/YehConf/11/
END:VEVENT
END:VCALENDAR
