BEGIN:VCALENDAR
VERSION:2.0
PRODID:researchseminars.org
CALSCALE:GREGORIAN
X-WR-CALNAME:researchseminars.org
BEGIN:VEVENT
SUMMARY:Richard Stanley (MIT)
DTSTART:20210627T012000Z
DTEND:20210627T021000Z
DTSTAMP:20260423T053045Z
UID:YehConf/1
DESCRIPTION:Title: <a href="https://researchseminars.org/talk/YehConf/1/">
 Two Analogues of Pascal’s Triangle</a>\nby Richard Stanley (MIT) as part
  of Conference on the Occasion of the Retirement of Yeong-Nan Yeh\n\nAbstr
 act: TBA\n
LOCATION:https://researchseminars.org/talk/YehConf/1/
END:VEVENT
END:VCALENDAR
