BEGIN:VCALENDAR
VERSION:2.0
PRODID:researchseminars.org
CALSCALE:GREGORIAN
X-WR-CALNAME:researchseminars.org
BEGIN:VEVENT
SUMMARY:Sunita Chepuri (University of Michigan)
DTSTART:20210118T200000Z
DTEND:20210118T210000Z
DTSTAMP:20260423T024550Z
UID:YUAAS/19
DESCRIPTION:Title: <a href="https://researchseminars.org/talk/YUAAS/19/">K
 azhdan-Lusztig Immanants for $k$-positive Matrices</a>\nby Sunita Chepuri 
 (University of Michigan) as part of York University Applied Algebra Semina
 r\n\n\nAbstract\nImmanants are matrix functionals that generalize the dete
 rminant. One notable family of immanants are the Kazhdan-Lusztig immanants
 . These immanants are indexed by permutations and are defined as sums invo
 lving Kazhdan-Lusztig polynomials specialized at $q=1$. Kazhdan-Lusztig im
 manants have several interesting combinatorial properties\, including that
  they are nonnegative on totally positive matrices. We give a condition on
  permutations that allows us to extend this theorem to the setting of $k$-
 positive matrices.\n
LOCATION:https://researchseminars.org/talk/YUAAS/19/
END:VEVENT
END:VCALENDAR
