BEGIN:VCALENDAR
VERSION:2.0
PRODID:researchseminars.org
CALSCALE:GREGORIAN
X-WR-CALNAME:researchseminars.org
BEGIN:VEVENT
SUMMARY:Nicolas Juillet (Strasbourg)
DTSTART:20210616T093000Z
DTEND:20210616T101500Z
DTSTAMP:20260423T024624Z
UID:YRbGSA/3
DESCRIPTION:Title: <a href="https://researchseminars.org/talk/YRbGSA/3/">M
 etric hexachordal theorems on probability spaces</a>\nby Nicolas Juillet (
 Strasbourg) as part of Young Researchers between Geometry and Stochastic A
 nalysis 2021\n\n\nAbstract\nWe present probabilistic and geometric extensi
 ons to Babbit's hexachordal theorem. This result coming from the mathemati
 cal theory of Music is initially a combinatorical observation that concern
 s the groups of six notes in $\\mathbb{Z}/12\\mathbb{Z}$. Joint work with 
 Moreno Andreata and Corentin Guichaoua.\n
LOCATION:https://researchseminars.org/talk/YRbGSA/3/
END:VEVENT
END:VCALENDAR
