BEGIN:VCALENDAR
VERSION:2.0
PRODID:researchseminars.org
CALSCALE:GREGORIAN
X-WR-CALNAME:researchseminars.org
BEGIN:VEVENT
SUMMARY:Aoon Rizvi (University of California)
DTSTART:20220421T153000Z
DTEND:20220421T160000Z
DTSTAMP:20260423T041336Z
UID:YMRW/8
DESCRIPTION:Title: <a href="https://researchseminars.org/talk/YMRW/8/">Liq
 uid-liquid phase separation and Coacervation of block copolymer solutions<
 /a>\nby Aoon Rizvi (University of California) as part of Young Macromolecu
 lar Researcher Webinar\n\nAbstract: TBA\n
LOCATION:https://researchseminars.org/talk/YMRW/8/
END:VEVENT
END:VCALENDAR
