BEGIN:VCALENDAR
VERSION:2.0
PRODID:researchseminars.org
CALSCALE:GREGORIAN
X-WR-CALNAME:researchseminars.org
BEGIN:VEVENT
SUMMARY:Scott Spring (Cornell University)
DTSTART:20220407T153000Z
DTEND:20220407T160000Z
DTSTAMP:20260423T021334Z
UID:YMRW/6
DESCRIPTION:Title: <a href="https://researchseminars.org/talk/YMRW/6/">Sus
 tainable thermoplastic elastomers produced via cationic RAFT polymerizatio
 n</a>\nby Scott Spring (Cornell University) as part of Young Macromolecula
 r Researcher Webinar\n\nAbstract: TBA\n
LOCATION:https://researchseminars.org/talk/YMRW/6/
END:VEVENT
END:VCALENDAR
