BEGIN:VCALENDAR
VERSION:2.0
PRODID:researchseminars.org
CALSCALE:GREGORIAN
X-WR-CALNAME:researchseminars.org
BEGIN:VEVENT
SUMMARY:Paul Galanopoulo (CPE Lyon)
DTSTART:20220428T153000Z
DTEND:20220428T160000Z
DTSTAMP:20260423T005819Z
UID:YMRW/10
DESCRIPTION:Title: <a href="https://researchseminars.org/talk/YMRW/10/">On
 e-step synthesis of degradable vinylic polymer-based latexes via aqueous r
 adical emulsion polymerization</a>\nby Paul Galanopoulo (CPE Lyon) as part
  of Young Macromolecular Researcher Webinar\n\nAbstract: TBA\n
LOCATION:https://researchseminars.org/talk/YMRW/10/
END:VEVENT
END:VCALENDAR
