BEGIN:VCALENDAR
VERSION:2.0
PRODID:researchseminars.org
CALSCALE:GREGORIAN
X-WR-CALNAME:researchseminars.org
BEGIN:VEVENT
SUMMARY:Netta Engelhardt (MIT)
DTSTART:20201217T164500Z
DTEND:20201217T180000Z
DTSTAMP:20260423T053045Z
UID:XmasIFT/6
DESCRIPTION:Title: <a href="https://researchseminars.org/talk/XmasIFT/6/">
 The Information Paradox in the Age of Holographic Entanglement Entropy</a>
 \nby Netta Engelhardt (MIT) as part of XXVI IFT Christmas Workshop\n\n\nAb
 stract\nThe black hole information paradox — whether information escapes
  an evaporating black hole or not —  remains one of the greatest unsolve
 d mysteries of theoretical physics. The apparent conflict between validity
  of semiclassical gravity at low energies and unitarity of quantum mechani
 cs has long been expected to find its resolution in the deep quantum gravi
 ty regime. Recent developments in the holographic dictionary and in partic
 ular its application to entanglement\, however\, have shown that a semicla
 ssical analysis of gravitational physics has a hallmark feature of unitary
  evolution. I will describe this recent progress and discuss some potentia
 l new avenues for working towards a resolution of the information paradox.
 \n
LOCATION:https://researchseminars.org/talk/XmasIFT/6/
END:VEVENT
END:VCALENDAR
