BEGIN:VCALENDAR
VERSION:2.0
PRODID:researchseminars.org
CALSCALE:GREGORIAN
X-WR-CALNAME:researchseminars.org
BEGIN:VEVENT
SUMMARY:Noémie  Combe (Max Planck Institute for Mathematics in Sciences\,
  Germany)
DTSTART:20230824T140000Z
DTEND:20230824T160000Z
DTSTAMP:20260423T041033Z
UID:Wisla23/5
DESCRIPTION:Title: <a href="https://researchseminars.org/talk/Wisla23/5/">
 Exploring Information Geometry: Recent Advances and Connections to Topolog
 ical Field Theory</a>\nby Noémie  Combe (Max Planck Institute for Mathema
 tics in Sciences\, Germany) as part of Mapping the Interdisciplinary Horiz
 ons of AI: Safety\, Functional Programming\, Information Geometry\n\n\nAbs
 tract\nWith the rapid progress of machine learning\, artificial intelligen
 ce and data sciences\, the topic of information geometry is an important d
 omain of research. We aim at introducing the topic of information geometry
 \, as well as presenting some recent progress in this domain. Differential
  geometry and algebraic aspects shall be developed. The new tight relation
  between the information geometry and topological field theory will be dis
 cussed.\n
LOCATION:https://researchseminars.org/talk/Wisla23/5/
END:VEVENT
END:VCALENDAR
