BEGIN:VCALENDAR
VERSION:2.0
PRODID:researchseminars.org
CALSCALE:GREGORIAN
X-WR-CALNAME:researchseminars.org
BEGIN:VEVENT
SUMMARY:Frank Nielsen (Sony Computer Science Laboratories\, Japan)
DTSTART:20230829T070000Z
DTEND:20230829T090000Z
DTSTAMP:20260423T024545Z
UID:Wisla23/20
DESCRIPTION:Title: <a href="https://researchseminars.org/talk/Wisla23/20/"
 >Introduction to Information Geometry\, Recent Advances\, and Applications
 </a>\nby Frank Nielsen (Sony Computer Science Laboratories\, Japan) as par
 t of Mapping the Interdisciplinary Horizons of AI: Safety\, Functional Pro
 gramming\, Information Geometry\n\nAbstract: TBA\n
LOCATION:https://researchseminars.org/talk/Wisla23/20/
END:VEVENT
END:VCALENDAR
