BEGIN:VCALENDAR
VERSION:2.0
PRODID:researchseminars.org
CALSCALE:GREGORIAN
X-WR-CALNAME:researchseminars.org
BEGIN:VEVENT
SUMMARY:Erez Lapid (Weizmann Institute of Science)
DTSTART:20200513T120000Z
DTEND:20200513T130000Z
DTSTAMP:20260423T035827Z
UID:Weizmann/7
DESCRIPTION:Title: <a href="https://researchseminars.org/talk/Weizmann/7/"
 >Results and conjectures about parabolic induction for the general linear 
 group over a p-adic field</a>\nby Erez Lapid (Weizmann Institute of Scienc
 e) as part of Conference on representation theory and algebraic analysis\n
 \nAbstract: TBA\n\nZoom password is 13052020\n
LOCATION:https://researchseminars.org/talk/Weizmann/7/
END:VEVENT
END:VCALENDAR
