BEGIN:VCALENDAR
VERSION:2.0
PRODID:researchseminars.org
CALSCALE:GREGORIAN
X-WR-CALNAME:researchseminars.org
BEGIN:VEVENT
SUMMARY:Tim Dokchitser (University of Bristol)
DTSTART:20201214T121500Z
DTEND:20201214T131500Z
DTSTAMP:20260423T023055Z
UID:WarsawNT/16
DESCRIPTION:Title: <a href="https://researchseminars.org/talk/WarsawNT/16/
 ">Curves with tame torsion</a>\nby Tim Dokchitser (University of Bristol) 
 as part of Warsaw Number Theory Seminar\n\nLecture held in currently onlin
 e.\n\nAbstract\nIn this talk I will sketch the proof of the fact that in e
 very\ngenus and for every prime p there are curves over Q with tame p-tors
 ion.\nIn genus 1\, this is something this is quite easy to deduce from the
 \ntheory of the Tate curve\, and I will explain how an explicit version of
 \nthe theory of hyperelliptic Mumford curves gives this in arbitrary\ngenu
 s. This is joint work with Matthew Bisatt.\n
LOCATION:https://researchseminars.org/talk/WarsawNT/16/
END:VEVENT
END:VCALENDAR
