BEGIN:VCALENDAR
VERSION:2.0
PRODID:researchseminars.org
CALSCALE:GREGORIAN
X-WR-CALNAME:researchseminars.org
BEGIN:VEVENT
SUMMARY:Masha Vlasenko (IMPAN)
DTSTART:20201109T121500Z
DTEND:20201109T131500Z
DTSTAMP:20260423T023055Z
UID:WarsawNT/11
DESCRIPTION:Title: <a href="https://researchseminars.org/talk/WarsawNT/11/
 ">Dwork crystals</a>\nby Masha Vlasenko (IMPAN) as part of Warsaw Number T
 heory Seminar\n\nLecture held in room 403 at IMPAN.\n\nAbstract\nIn his wo
 rk on rationality of zeta functions of algebraic varieties Bernard Dwork d
 iscovered a number of remarkable p-adic congruences. In this talk I will d
 emonstrate some of these congruences and overview our recent work with Fri
 ts Beukers which explains their underlying mechanism.\n
LOCATION:https://researchseminars.org/talk/WarsawNT/11/
END:VEVENT
END:VCALENDAR
