BEGIN:VCALENDAR
VERSION:2.0
PRODID:researchseminars.org
CALSCALE:GREGORIAN
X-WR-CALNAME:researchseminars.org
BEGIN:VEVENT
SUMMARY:Miguel Onorato (Universita` di Torino)
DTSTART:20200513T140000Z
DTEND:20200513T150000Z
DTSTAMP:20260423T052454Z
UID:WOW/9
DESCRIPTION:Title: <a href="https://researchseminars.org/talk/WOW/9/">Ther
 malization and conduction in a one dimensional lattice</a>\nby Miguel Onor
 ato (Universita` di Torino) as part of Waves in One World (WOW) series\n\n
 Abstract: TBA\n
LOCATION:https://researchseminars.org/talk/WOW/9/
END:VEVENT
END:VCALENDAR
