BEGIN:VCALENDAR
VERSION:2.0
PRODID:researchseminars.org
CALSCALE:GREGORIAN
X-WR-CALNAME:researchseminars.org
BEGIN:VEVENT
SUMMARY:David Lannes
DTSTART:20200422T140000Z
DTEND:20200422T150000Z
DTSTAMP:20260423T052455Z
UID:WOW/3
DESCRIPTION:Title: <a href="https://researchseminars.org/talk/WOW/3/">The 
 Boussinesq equations with a freely floating object</a>\nby David Lannes as
  part of Waves in One World (WOW) series\n\nAbstract: TBA\n
LOCATION:https://researchseminars.org/talk/WOW/3/
END:VEVENT
END:VCALENDAR
