BEGIN:VCALENDAR
VERSION:2.0
PRODID:researchseminars.org
CALSCALE:GREGORIAN
X-WR-CALNAME:researchseminars.org
BEGIN:VEVENT
SUMMARY:Ethan Shelburne (William & Mary)
DTSTART:20210430T190000Z
DTEND:20210430T200000Z
DTSTAMP:20260423T040710Z
UID:WMGAG/9
DESCRIPTION:Title: <a href="https://researchseminars.org/talk/WMGAG/9/">To
 ward a Holographic Transform for the Quantum Clebsch-Gordan Formula</a>\nb
 y Ethan Shelburne (William & Mary) as part of GAG seminar\n\n\nAbstract\nA
  holographic transform is an equivariant map which increases the number of
  variables in its domain\, a space of functions. The tensor product of two
  finite dimensional irreducible representations of the Lie algebra $\\math
 frak{sl}(2)$ decomposes into a direct sum of irreducible modules. In fact\
 , the tensor product of representations of $U_q(\\mathfrak{sl}(2))$\, the 
 quantum analogue of $\\mathfrak{sl}(2)$\, decomposes in the same way. The 
 purpose of this talk will be discussing the search for explicit holographi
 c transforms associated with these decompositions.\n
LOCATION:https://researchseminars.org/talk/WMGAG/9/
END:VEVENT
END:VCALENDAR
