BEGIN:VCALENDAR
VERSION:2.0
PRODID:researchseminars.org
CALSCALE:GREGORIAN
X-WR-CALNAME:researchseminars.org
BEGIN:VEVENT
SUMMARY:Arnav Tripathy (Harvard)
DTSTART:20210405T190000Z
DTEND:20210405T200000Z
DTSTAMP:20260423T035909Z
UID:WHCGP/30
DESCRIPTION:Title: <a href="https://researchseminars.org/talk/WHCGP/30/">K
 3 metrics</a>\nby Arnav Tripathy (Harvard) as part of Western Hemisphere c
 olloquium on geometry and physics\n\n\nAbstract\nIt has long been an open 
 problem to explicitly produce a\nRicci-flat metric on a (non-toroidal) com
 pact manifold. I'll discuss two\napproaches to this problem\, related by a
  version of 3d mirror symmetry\,\nfor K3 manifolds. This is joint work wit
 h M. Zimet.\n
LOCATION:https://researchseminars.org/talk/WHCGP/30/
END:VEVENT
END:VCALENDAR
