BEGIN:VCALENDAR
VERSION:2.0
PRODID:researchseminars.org
CALSCALE:GREGORIAN
X-WR-CALNAME:researchseminars.org
BEGIN:VEVENT
SUMMARY:Tamas Hausel (IST\, Austria)
DTSTART:20210222T200000Z
DTEND:20210222T210000Z
DTSTAMP:20260423T021439Z
UID:WHCGP/27
DESCRIPTION:Title: <a href="https://researchseminars.org/talk/WHCGP/27/">M
 irror symmetry for Langlands dual Higgs bundles at the tip of the nilpoten
 t cone</a>\nby Tamas Hausel (IST\, Austria) as part of Western Hemisphere 
 colloquium on geometry and physics\n\n\nAbstract\nI will explain what we c
 an prove and what we conjecture about the mirror of Hecke transformed Hitc
 hin section motivated by symmetry ideas of Kapustin-Witten. The talk is ba
 sed on arXiv:2101.08583 joint with Hitchin.\n
LOCATION:https://researchseminars.org/talk/WHCGP/27/
END:VEVENT
END:VCALENDAR
