BEGIN:VCALENDAR
VERSION:2.0
PRODID:researchseminars.org
CALSCALE:GREGORIAN
X-WR-CALNAME:researchseminars.org
BEGIN:VEVENT
SUMMARY:Aubrey de Grey
DTSTART:20210311T170000Z
DTEND:20210311T174500Z
DTSTAMP:20260423T022628Z
UID:WERT/8
DESCRIPTION:Title: <a href="https://researchseminars.org/talk/WERT/8/">5-c
 hromatic unit-distance graphs in the plane: initial discovery and subseque
 nt progress</a>\nby Aubrey de Grey as part of Workshop on Euclidean Ramsey
  Theory\n\nAbstract: TBA\n
LOCATION:https://researchseminars.org/talk/WERT/8/
END:VEVENT
END:VCALENDAR
