BEGIN:VCALENDAR
VERSION:2.0
PRODID:researchseminars.org
CALSCALE:GREGORIAN
X-WR-CALNAME:researchseminars.org
BEGIN:VEVENT
SUMMARY:David Conlon
DTSTART:20210310T175500Z
DTEND:20210310T184000Z
DTSTAMP:20260423T022628Z
UID:WERT/4
DESCRIPTION:Title: <a href="https://researchseminars.org/talk/WERT/4/">Ram
 sey theory for graphs\, numbers and shapes</a>\nby David Conlon as part of
  Workshop on Euclidean Ramsey Theory\n\nAbstract: TBA\n
LOCATION:https://researchseminars.org/talk/WERT/4/
END:VEVENT
END:VCALENDAR
