BEGIN:VCALENDAR
VERSION:2.0
PRODID:researchseminars.org
CALSCALE:GREGORIAN
X-WR-CALNAME:researchseminars.org
BEGIN:VEVENT
SUMMARY:Nóra Frankl
DTSTART:20210312T191000Z
DTEND:20210312T200000Z
DTSTAMP:20260423T022719Z
UID:WERT/15
DESCRIPTION:Title: <a href="https://researchseminars.org/talk/WERT/15/">On
  problems related to the chromatic number of the space with the maximum an
 d Euclidean norm</a>\nby Nóra Frankl as part of Workshop on Euclidean Ram
 sey Theory\n\nAbstract: TBA\n
LOCATION:https://researchseminars.org/talk/WERT/15/
END:VEVENT
END:VCALENDAR
