BEGIN:VCALENDAR
VERSION:2.0
PRODID:researchseminars.org
CALSCALE:GREGORIAN
X-WR-CALNAME:researchseminars.org
BEGIN:VEVENT
SUMMARY:Péter Pál Pach (Budapest)
DTSTART:20220511T130000Z
DTEND:20220511T140000Z
DTSTAMP:20260423T003235Z
UID:WCS/54
DESCRIPTION:Title: <a href="https://researchseminars.org/talk/WCS/54/">The
  Alon-Jaeger-Tarsi conjecture via group ring identities</a>\nby Péter Pá
 l Pach (Budapest) as part of Warwick Combinatorics Seminar\n\n\nAbstract\n
 The Alon-Jaeger-Tarsi conjecture states that for any finite field $F$ of s
 ize at least 4  and any nonsingular  matrix $M$ over $F$ there exists a ve
 ctor $x$ such that neither $x$ nor $Mx$ has a 0 component. In joint work w
 ith János Nagy we proved this conjecture when the size of the field is su
 fficiently large\, namely\, when $61<|F|\\ne 79$. In this talk we will dis
 cuss this result.\n
LOCATION:https://researchseminars.org/talk/WCS/54/
END:VEVENT
END:VCALENDAR
