BEGIN:VCALENDAR
VERSION:2.0
PRODID:researchseminars.org
CALSCALE:GREGORIAN
X-WR-CALNAME:researchseminars.org
BEGIN:VEVENT
SUMMARY:Yifan Jing (UIUC)
DTSTART:20200603T130000Z
DTEND:20200603T140000Z
DTSTAMP:20260423T003241Z
UID:WCS/1
DESCRIPTION:Title: <a href="https://researchseminars.org/talk/WCS/1/">Stru
 ctures of sets with minimal measure growth</a>\nby Yifan Jing (UIUC) as pa
 rt of Warwick Combinatorics Seminar\n\nAbstract: TBA\n
LOCATION:https://researchseminars.org/talk/WCS/1/
END:VEVENT
END:VCALENDAR
