BEGIN:VCALENDAR
VERSION:2.0
PRODID:researchseminars.org
CALSCALE:GREGORIAN
X-WR-CALNAME:researchseminars.org
BEGIN:VEVENT
SUMMARY:Matthew Tointon (Bristol)
DTSTART:20220302T150000Z
DTEND:20220302T160000Z
DTSTAMP:20260423T021440Z
UID:WAC/60
DESCRIPTION:Title: <a href="https://researchseminars.org/talk/WAC/60/">Per
 colation on finite transitive graphs</a>\nby Matthew Tointon (Bristol) as 
 part of Webinar in Additive Combinatorics\n\nAbstract: TBA\n
LOCATION:https://researchseminars.org/talk/WAC/60/
END:VEVENT
END:VCALENDAR
