BEGIN:VCALENDAR
VERSION:2.0
PRODID:researchseminars.org
CALSCALE:GREGORIAN
X-WR-CALNAME:researchseminars.org
BEGIN:VEVENT
SUMMARY:Kevin Ford (Illinois at Urbana-Champaign)
DTSTART:20201103T170000Z
DTEND:20201103T180000Z
DTSTAMP:20260423T035940Z
UID:WAC/25
DESCRIPTION:Title: <a href="https://researchseminars.org/talk/WAC/25/">Div
 isibility of the central binomial coefficient</a>\nby Kevin Ford (Illinois
  at Urbana-Champaign) as part of Webinar in Additive Combinatorics\n\nAbst
 ract: TBA\n
LOCATION:https://researchseminars.org/talk/WAC/25/
END:VEVENT
END:VCALENDAR
