BEGIN:VCALENDAR
VERSION:2.0
PRODID:researchseminars.org
CALSCALE:GREGORIAN
X-WR-CALNAME:researchseminars.org
BEGIN:VEVENT
SUMMARY:Julian Sahasrabudhe (Cambridge)
DTSTART:20200803T160000Z
DTEND:20200803T170000Z
DTSTAMP:20260423T021310Z
UID:WAC/16
DESCRIPTION:Title: <a href="https://researchseminars.org/talk/WAC/16/">Zer
 os of cosine polynomials\, a problem of Littlewood</a>\nby Julian Sahasrab
 udhe (Cambridge) as part of Webinar in Additive Combinatorics\n\nAbstract:
  TBA\n
LOCATION:https://researchseminars.org/talk/WAC/16/
END:VEVENT
END:VCALENDAR
