BEGIN:VCALENDAR
VERSION:2.0
PRODID:researchseminars.org
CALSCALE:GREGORIAN
X-WR-CALNAME:researchseminars.org
BEGIN:VEVENT
SUMMARY:Peter Sarnak (IAS Princeton\, USA)
DTSTART:20211130T150000Z
DTEND:20211130T163000Z
DTSTAMP:20260423T041503Z
UID:Vinberg/5
DESCRIPTION:Title: <a href="https://researchseminars.org/talk/Vinberg/5/">
 Reflection groups and monodromy</a>\nby Peter Sarnak (IAS Princeton\, USA)
  as part of The Vinberg Lecture Series\n\n\nAbstract\nVinberg's theory of 
 reflection groups has wide applications. We discuss some of these\, to mon
 odromy groups of hypergeometric and Painlevé equations. The nonlinear cas
 e is intimately connected to affine Markoff surfaces and it is a central i
 ngredient in the Diophantine analysis of these surfaces.\n
LOCATION:https://researchseminars.org/talk/Vinberg/5/
END:VEVENT
END:VCALENDAR
