BEGIN:VCALENDAR
VERSION:2.0
PRODID:researchseminars.org
CALSCALE:GREGORIAN
X-WR-CALNAME:researchseminars.org
BEGIN:VEVENT
SUMMARY:Adam Thompson (The University of Queensland)
DTSTART:20230712T220000Z
DTEND:20230712T230000Z
DTSTAMP:20260423T035933Z
UID:VSGS/76
DESCRIPTION:Title: <a href="https://researchseminars.org/talk/VSGS/76/">Ne
 w examples of Ricci solitons with non-compact symmetry</a>\nby Adam Thomps
 on (The University of Queensland) as part of Virtual seminar on geometry w
 ith symmetries\n\n\nAbstract\nThere are many examples of Ricci solitons th
 at are constructed using the following ansatz: the soliton admits a cohomo
 geneity one group action by a compact Lie group. On the other hand\, there
  are very few examples of cohomogeneity one Ricci solitons where the group
  acting is non-compact. In fact\, all known examples of inhomogeneous Ricc
 i solitons with non-compact symmetry have either abelian symmetry or speci
 al holonomy. We will discuss our construction of new examples of complete 
 cohomogeneity one gradient Ricci solitons where the group action is by a n
 on-compact solvable Lie group\, many of which do not have special holonomy
 .\n
LOCATION:https://researchseminars.org/talk/VSGS/76/
END:VEVENT
END:VCALENDAR
