BEGIN:VCALENDAR
VERSION:2.0
PRODID:researchseminars.org
CALSCALE:GREGORIAN
X-WR-CALNAME:researchseminars.org
BEGIN:VEVENT
SUMMARY:Jeffrey Streets (University of California\, Irvine)
DTSTART:20220209T220000Z
DTEND:20220209T230000Z
DTSTAMP:20260423T052838Z
UID:VSGS/46
DESCRIPTION:Title: <a href="https://researchseminars.org/talk/VSGS/46/">Ge
 neralized Ricci Flow</a>\nby Jeffrey Streets (University of California\, I
 rvine) as part of Virtual seminar on geometry with symmetries\n\n\nAbstrac
 t\nThe generalized Ricci Flow is a natural extension of the Ricci Flow equ
 ation which incorporates torsion. In this talk I will describe recent glob
 al existence and convergence results\, and their application to problems i
 n complex geometry.\n
LOCATION:https://researchseminars.org/talk/VSGS/46/
END:VEVENT
END:VCALENDAR
