BEGIN:VCALENDAR
VERSION:2.0
PRODID:researchseminars.org
CALSCALE:GREGORIAN
X-WR-CALNAME:researchseminars.org
BEGIN:VEVENT
SUMMARY:Tommy Murphy
DTSTART:20250625T160000Z
DTEND:20250625T170000Z
DTSTAMP:20260423T021349Z
UID:VSGS/114
DESCRIPTION:Title: <a href="https://researchseminars.org/talk/VSGS/114/">R
 iemannian 3-symmetric spaces\, their moduli\, and Ricci solitons</a>\nby T
 ommy Murphy as part of Virtual seminar on geometry with symmetries\n\n\nAb
 stract\nRiemannian 3-symmetric spaces are a natural generalization of the 
 classical  symmetric spaces of Cartan. Their classification  has been open
  since the pioneering work of Gray-Wolf in the sixties which focused on th
 e semisimple case. I will outline the full classification\, stressing some
  of the more remarkable features including their rich moduli space structu
 re. As a by-product\, a very general construction of Ricci solitons is pre
 sented which is of independent interest.\n
LOCATION:https://researchseminars.org/talk/VSGS/114/
END:VEVENT
END:VCALENDAR
