BEGIN:VCALENDAR
VERSION:2.0
PRODID:researchseminars.org
CALSCALE:GREGORIAN
X-WR-CALNAME:researchseminars.org
BEGIN:VEVENT
SUMMARY:Gabriela Ovando (Universidad Nacional de Rosario)
DTSTART:20200916T150000Z
DTEND:20200916T160000Z
DTSTAMP:20260423T052923Z
UID:VSGS/11
DESCRIPTION:Title: <a href="https://researchseminars.org/talk/VSGS/11/">Fi
 rst integrals of the geodesic flow on nilpotent Lie groups of step at most
  three</a>\nby Gabriela Ovando (Universidad Nacional de Rosario) as part o
 f Virtual seminar on geometry with symmetries\n\n\nAbstract\nIn this talk 
 we would like to consider the question of integrability of the geodesic fl
 ow on nilmanifolds. We start with nilpotent Lie groups\, mostly of step tw
 o and three\, equipped with a left-invariant metric. We show some algebrai
 c relations when studying functions in involution and we obtain explicit e
 xamples in low dimensions. Some examples of Liouville integrability in com
 pact quotients will be shown.\n\nNotice that the schedule has been shifted
  one week forward\, with Ovando's seminar three weeks after Siffert's.\n
LOCATION:https://researchseminars.org/talk/VSGS/11/
END:VEVENT
END:VCALENDAR
