BEGIN:VCALENDAR
VERSION:2.0
PRODID:researchseminars.org
CALSCALE:GREGORIAN
X-WR-CALNAME:researchseminars.org
BEGIN:VEVENT
SUMMARY:Daniela Di Donato (University of Pavia)
DTSTART:20250122T160000Z
DTEND:20250122T170000Z
DTSTAMP:20260423T021231Z
UID:VSGS/103
DESCRIPTION:Title: <a href="https://researchseminars.org/talk/VSGS/103/">R
 ectifiability in Carnot groups</a>\nby Daniela Di Donato (University of Pa
 via) as part of Virtual seminar on geometry with symmetries\n\n\nAbstract\
 nIntrinsic regular surfaces in Carnot groups play the same role as C^1 sur
 faces in Euclidean spaces. As in Euclidean spaces\, intrinsic regular surf
 aces can be locally defined in different ways: e.g. as non critical level 
 sets or as continuously intrinsic differentiable graphs. The equivalence o
 f these natural definitions is the problem that we are studying. Precisely
  our aim is to generalize some results proved by Ambrosio\, Serra Cassano\
 , Vittone valid in Heisenberg groups to the more general setting of Carnot
  groups. This is joint work with Antonelli\, Don and Le Donne\n
LOCATION:https://researchseminars.org/talk/VSGS/103/
END:VEVENT
END:VCALENDAR
