BEGIN:VCALENDAR
VERSION:2.0
PRODID:researchseminars.org
CALSCALE:GREGORIAN
X-WR-CALNAME:researchseminars.org
BEGIN:VEVENT
SUMMARY:F Tripaldi (University of Leeds)
DTSTART:20241009T160000Z
DTEND:20241009T170000Z
DTSTAMP:20260423T053048Z
UID:VSGS/102
DESCRIPTION:Title: <a href="https://researchseminars.org/talk/VSGS/102/">E
 xtracting subcomplexes on nilpotent groups without relying on homogeneous 
 structures</a>\nby F Tripaldi (University of Leeds) as part of Virtual sem
 inar on geometry with symmetries\n\n\nAbstract\nI will present a general c
 onstruction of subcomplexes on nilpotent Lie groups equipped with a Rieman
 nian metric. The aim is to emphasise how relying on different structures (
 homogenous and non-homogenous ones) affects the resulting subcomplex. \nI 
 will then show how particular subcomplexes are better suited than others d
 epending on the geometric setting and the possible applications.\n
LOCATION:https://researchseminars.org/talk/VSGS/102/
END:VEVENT
END:VCALENDAR
