BEGIN:VCALENDAR
VERSION:2.0
PRODID:researchseminars.org
CALSCALE:GREGORIAN
X-WR-CALNAME:researchseminars.org
BEGIN:VEVENT
SUMMARY:Leonid Levitov (MIT)
DTSTART:20210120T181500Z
DTEND:20210120T194500Z
DTSTAMP:20260423T035814Z
UID:VSFLRC/5
DESCRIPTION:Title: <a href="https://researchseminars.org/talk/VSFLRC/5/">E
 lectrons Bloch-waltzing in Moire superlattices</a>\nby Leonid Levitov (MIT
 ) as part of VSF Long Range Colloquium\n\nAbstract: TBA\n
LOCATION:https://researchseminars.org/talk/VSFLRC/5/
END:VEVENT
END:VCALENDAR
