BEGIN:VCALENDAR
VERSION:2.0
PRODID:researchseminars.org
CALSCALE:GREGORIAN
X-WR-CALNAME:researchseminars.org
BEGIN:VEVENT
SUMMARY:Natalia Ares (University of Oxford)
DTSTART:20201028T171500Z
DTEND:20201028T184500Z
DTSTAMP:20260423T021306Z
UID:VSFLRC/2
DESCRIPTION:Title: <a href="https://researchseminars.org/talk/VSFLRC/2/">M
 easuring and tuning quantum devices faster than human experts</a>\nby Nata
 lia Ares (University of Oxford) as part of VSF Long Range Colloquium\n\nAb
 stract: TBA\n
LOCATION:https://researchseminars.org/talk/VSFLRC/2/
END:VEVENT
END:VCALENDAR
