BEGIN:VCALENDAR
VERSION:2.0
PRODID:researchseminars.org
CALSCALE:GREGORIAN
X-WR-CALNAME:researchseminars.org
BEGIN:VEVENT
SUMMARY:Jessica Sidman (Mount Holyoke College)
DTSTART:20200521T140000Z
DTEND:20200521T150000Z
DTSTAMP:20260423T035739Z
UID:VSAMRT/6
DESCRIPTION:Title: <a href="https://researchseminars.org/talk/VSAMRT/6/">F
 rameworks in special position: joints vs edges</a>\nby Jessica Sidman (Mou
 nt Holyoke College) as part of Virtual seminar on algebraic matroids and r
 igidity theory\n\nAbstract: TBA\n
LOCATION:https://researchseminars.org/talk/VSAMRT/6/
END:VEVENT
END:VCALENDAR
